BEGIN:VCALENDAR
VERSION:2.0
PRODID:-//hacksw/handcal//NONSGML v1.0//EN
BEGIN:VEVENT
DTSTAMP:20260529T080000Z
DTSTART:20260529T080000Z
DTEND:20260529T100000Z
LOCATION:Bezirksregierung Köln, Raum H 200, Köln, Deutschland
SUMMARY:Kommission für Mobilität und Verkehr
END:VEVENT
END:VCALENDAR
