BEGIN:VCALENDAR
VERSION:2.0
PRODID:-//hacksw/handcal//NONSGML v1.0//EN
BEGIN:VEVENT
DTSTAMP:20260710T080000Z
DTSTART:20260710T080000Z
DTEND:20260710T110000Z
LOCATION:Bezirksregierung Köln, Raum H 200, Köln, Deutschland
SUMMARY:Sitzung des Regionalrates
END:VEVENT
END:VCALENDAR
