BEGIN:VCALENDAR
VERSION:2.0
PRODID:-//hacksw/handcal//NONSGML v1.0//EN
BEGIN:VEVENT
DTSTAMP:20260918T080000Z
DTSTART:20260918T080000Z
DTEND:20260918T110000Z
SUMMARY:Kommission für Regionalplanung, Strukturfragen und Digitalisierung
END:VEVENT
END:VCALENDAR
