BEGIN:VCALENDAR
VERSION:2.0
PRODID:-//hacksw/handcal//NONSGML v1.0//EN
BEGIN:VEVENT
DTSTAMP:20261113T090000Z
DTSTART:20261113T090000Z
DTEND:20261113T110000Z
SUMMARY:Kommission für regionale und grenzüberschreitende Zusammenarbeit
END:VEVENT
END:VCALENDAR
