BEGIN:VCALENDAR
VERSION:2.0
PRODID:-//hacksw/handcal//NONSGML v1.0//EN
BEGIN:VEVENT
DTSTAMP:20261120T090000Z
DTSTART:20261120T090000Z
DTEND:20261120T110000Z
SUMMARY:Kommission für Regionalplanung, Strukturfragen und Digitalisierung
END:VEVENT
END:VCALENDAR
