BEGIN:VCALENDAR
VERSION:2.0
PRODID:-//hacksw/handcal//NONSGML v1.0//EN
BEGIN:VEVENT
DTSTAMP:20261211T090000Z
DTSTART:20261211T090000Z
DTEND:20261211T110000Z
SUMMARY:Kommission für das rheinische Revier
END:VEVENT
END:VCALENDAR
